BEGIN:VCALENDAR
VERSION:2.0
PRODID:-//Faiscop - ECPv6.7.0//NONSGML v1.0//EN
CALSCALE:GREGORIAN
METHOD:PUBLISH
X-WR-CALNAME:Faiscop
X-ORIGINAL-URL:https://www.faiscop.com
X-WR-CALDESC:Évènements pour Faiscop
REFRESH-INTERVAL;VALUE=DURATION:PT1H
X-Robots-Tag:noindex
X-PUBLISHED-TTL:PT1H
BEGIN:VTIMEZONE
TZID:Europe/Paris
BEGIN:DAYLIGHT
TZOFFSETFROM:+0100
TZOFFSETTO:+0200
TZNAME:CEST
DTSTART:20220327T010000
END:DAYLIGHT
BEGIN:STANDARD
TZOFFSETFROM:+0200
TZOFFSETTO:+0100
TZNAME:CET
DTSTART:20221030T010000
END:STANDARD
END:VTIMEZONE
BEGIN:VEVENT
DTSTART;TZID=Europe/Paris:20221114T093000
DTEND;TZID=Europe/Paris:20221114T173000
DTSTAMP:20260425T143045
CREATED:20221018T121523Z
LAST-MODIFIED:20221018T121523Z
UID:10000126-1668418200-1668447000@www.faiscop.com
SUMMARY:Habilitation électrique B0 H0 H0V - Initiale
DESCRIPTION:
URL:https://www.faiscop.com/event/habilitation-electrique-b0-h0-h0v-initiale/2022-11-14/
LOCATION:Au centre\, en e-learning ou en entreprise
ATTACH;FMTTYPE=image/jpeg:https://www.faiscop.com/wp-content/uploads/2022/10/image-electrique-b0-h0-h0v-faiscop.jpg
END:VEVENT
BEGIN:VEVENT
DTSTART;TZID=Europe/Paris:20221114T093000
DTEND;TZID=Europe/Paris:20221114T173000
DTSTAMP:20260425T143045
CREATED:20221018T124652Z
LAST-MODIFIED:20221018T124652Z
UID:10000170-1668418200-1668447000@www.faiscop.com
SUMMARY:Habilitation électrique B0 H0 H0V – Recyclage
DESCRIPTION:
URL:https://www.faiscop.com/event/habilitation-electrique-b0-h0-h0v-recyclage/2022-11-14/
LOCATION:Au centre\, en e-learning ou en entreprise
ATTACH;FMTTYPE=image/jpeg:https://www.faiscop.com/wp-content/uploads/2022/10/image-electrique-b0-h0-h0v-faiscop.jpg
END:VEVENT
BEGIN:VEVENT
DTSTART;TZID=Europe/Paris:20221114T093000
DTEND;TZID=Europe/Paris:20221115T173000
DTSTAMP:20260425T143045
CREATED:20221018T122702Z
LAST-MODIFIED:20221018T122702Z
UID:10000137-1668418200-1668533400@www.faiscop.com
SUMMARY:Habilitation électrique BS BE HE - Initiale
DESCRIPTION:
URL:https://www.faiscop.com/event/habilitation-electrique-bs-be-he-initiale/2022-11-14/
LOCATION:Au centre\, en e-learning ou en entreprise
ATTACH;FMTTYPE=image/jpeg:https://www.faiscop.com/wp-content/uploads/2022/10/image-electrique-faiscop-2.jpg
END:VEVENT
BEGIN:VEVENT
DTSTART;TZID=Europe/Paris:20221114T093000
DTEND;TZID=Europe/Paris:20221116T173000
DTSTAMP:20260425T143045
CREATED:20221018T123405Z
LAST-MODIFIED:20221018T123405Z
UID:10000148-1668418200-1668619800@www.faiscop.com
SUMMARY:Habilitation non électricien B1 B2 BC BR - Initiale
DESCRIPTION:
URL:https://www.faiscop.com/event/habilitation-non-electricien-b1-b2-bc-br-initiale/2022-11-14/
LOCATION:Au centre ou en entreprise
ATTACH;FMTTYPE=image/jpeg:https://www.faiscop.com/wp-content/uploads/2022/10/image-electrique-faiscop-3.jpg
END:VEVENT
BEGIN:VEVENT
DTSTART;TZID=Europe/Paris:20221114T093000
DTEND;TZID=Europe/Paris:20221117T173000
DTSTAMP:20260425T143045
CREATED:20221018T124115Z
LAST-MODIFIED:20221018T124115Z
UID:10000159-1668418200-1668706200@www.faiscop.com
SUMMARY:Habilitation électricien B1 B2 BC BR H1 H2 - Initiale
DESCRIPTION:
URL:https://www.faiscop.com/event/habilitation-electricien-b1-b2-bc-br-h1-h2-initiale/2022-11-14/
LOCATION:Au centre ou en entreprise
ATTACH;FMTTYPE=image/jpeg:https://www.faiscop.com/wp-content/uploads/2022/10/image-electrique-faiscop-4.jpg
END:VEVENT
END:VCALENDAR