BEGIN:VCALENDAR
VERSION:2.0
PRODID:-//Faiscop - ECPv6.7.0//NONSGML v1.0//EN
CALSCALE:GREGORIAN
METHOD:PUBLISH
X-WR-CALNAME:Faiscop
X-ORIGINAL-URL:https://www.faiscop.com
X-WR-CALDESC:Évènements pour Faiscop
REFRESH-INTERVAL;VALUE=DURATION:PT1H
X-Robots-Tag:noindex
X-PUBLISHED-TTL:PT1H
BEGIN:VTIMEZONE
TZID:Europe/Paris
BEGIN:DAYLIGHT
TZOFFSETFROM:+0100
TZOFFSETTO:+0200
TZNAME:CEST
DTSTART:20230326T010000
END:DAYLIGHT
BEGIN:STANDARD
TZOFFSETFROM:+0200
TZOFFSETTO:+0100
TZNAME:CET
DTSTART:20231029T010000
END:STANDARD
END:VTIMEZONE
BEGIN:VEVENT
DTSTART;TZID=Europe/Paris:20230710T093000
DTEND;TZID=Europe/Paris:20230711T173000
DTSTAMP:20260425T005147
CREATED:20221018T122702Z
LAST-MODIFIED:20221018T122702Z
UID:10000145-1688981400-1689096600@www.faiscop.com
SUMMARY:Habilitation électrique BS BE HE - Initiale
DESCRIPTION:
URL:https://www.faiscop.com/event/habilitation-electrique-bs-be-he-initiale/2023-07-10/
LOCATION:Au centre\, en e-learning ou en entreprise
ATTACH;FMTTYPE=image/jpeg:https://www.faiscop.com/wp-content/uploads/2022/10/image-electrique-faiscop-2.jpg
END:VEVENT
BEGIN:VEVENT
DTSTART;TZID=Europe/Paris:20230710T093000
DTEND;TZID=Europe/Paris:20230712T173000
DTSTAMP:20260425T005147
CREATED:20221018T123405Z
LAST-MODIFIED:20221018T123405Z
UID:10000156-1688981400-1689183000@www.faiscop.com
SUMMARY:Habilitation non électricien B1 B2 BC BR - Initiale
DESCRIPTION:
URL:https://www.faiscop.com/event/habilitation-non-electricien-b1-b2-bc-br-initiale/2023-07-10/
LOCATION:Au centre ou en entreprise
ATTACH;FMTTYPE=image/jpeg:https://www.faiscop.com/wp-content/uploads/2022/10/image-electrique-faiscop-3.jpg
END:VEVENT
BEGIN:VEVENT
DTSTART;TZID=Europe/Paris:20230710T093000
DTEND;TZID=Europe/Paris:20230713T173000
DTSTAMP:20260425T005147
CREATED:20221018T124115Z
LAST-MODIFIED:20221018T124115Z
UID:10000167-1688981400-1689269400@www.faiscop.com
SUMMARY:Habilitation électricien B1 B2 BC BR H1 H2 - Initiale
DESCRIPTION:
URL:https://www.faiscop.com/event/habilitation-electricien-b1-b2-bc-br-h1-h2-initiale/2023-07-10/
LOCATION:Au centre ou en entreprise
ATTACH;FMTTYPE=image/jpeg:https://www.faiscop.com/wp-content/uploads/2022/10/image-electrique-faiscop-4.jpg
END:VEVENT
BEGIN:VEVENT
DTSTART;TZID=Europe/Paris:20230711T093000
DTEND;TZID=Europe/Paris:20230711T173000
DTSTAMP:20260425T005147
CREATED:20221018T125427Z
LAST-MODIFIED:20221018T125427Z
UID:10000189-1689067800-1689096600@www.faiscop.com
SUMMARY:Habilitation électrique BS BE HE – Recyclage
DESCRIPTION:
URL:https://www.faiscop.com/event/habilitation-electrique-bs-be-he-recyclage/2023-07-11/
LOCATION:Au centre\, en e-learning ou en entreprise
ATTACH;FMTTYPE=image/jpeg:https://www.faiscop.com/wp-content/uploads/2022/10/image-electrique-faiscop-2.jpg
END:VEVENT
BEGIN:VEVENT
DTSTART;TZID=Europe/Paris:20230711T093000
DTEND;TZID=Europe/Paris:20230712T123000
DTSTAMP:20260425T005147
CREATED:20221018T130353Z
LAST-MODIFIED:20221018T130353Z
UID:10000200-1689067800-1689165000@www.faiscop.com
SUMMARY:Habilitation non électricien B1 B2 BC BR - Recyclage
DESCRIPTION:
URL:https://www.faiscop.com/event/habilitation-non-electricien-b1-b2-bc-br-recyclage/2023-07-11/
LOCATION:Au centre ou en entreprise
ATTACH;FMTTYPE=image/jpeg:https://www.faiscop.com/wp-content/uploads/2022/10/image-electrique-faiscop-3.jpg
END:VEVENT
END:VCALENDAR