BEGIN:VCALENDAR
VERSION:2.0
PRODID:-//Faiscop - ECPv6.7.0//NONSGML v1.0//EN
CALSCALE:GREGORIAN
METHOD:PUBLISH
X-ORIGINAL-URL:https://www.faiscop.com
X-WR-CALDESC:Évènements pour Faiscop
REFRESH-INTERVAL;VALUE=DURATION:PT1H
X-Robots-Tag:noindex
X-PUBLISHED-TTL:PT1H
BEGIN:VTIMEZONE
TZID:Europe/Paris
BEGIN:DAYLIGHT
TZOFFSETFROM:+0100
TZOFFSETTO:+0200
TZNAME:CEST
DTSTART:20230326T010000
END:DAYLIGHT
BEGIN:STANDARD
TZOFFSETFROM:+0200
TZOFFSETTO:+0100
TZNAME:CET
DTSTART:20231029T010000
END:STANDARD
END:VTIMEZONE
BEGIN:VEVENT
DTSTART;TZID=Europe/Paris:20230601T093000
DTEND;TZID=Europe/Paris:20230601T173000
DTSTAMP:20260425T005441
CREATED:20221018T131807Z
LAST-MODIFIED:20221018T131807Z
UID:10000220-1685611800-1685640600@www.faiscop.com
SUMMARY:Formation AIPR Concepteur
DESCRIPTION:
URL:https://www.faiscop.com/event/formation-aipr-concepteur/2023-06-01/
LOCATION:Au centre\, en e-learning ou en entreprise
ATTACH;FMTTYPE=image/jpeg:https://www.faiscop.com/wp-content/uploads/2022/10/AIPR-concepteur.jpg
END:VEVENT
BEGIN:VEVENT
DTSTART;TZID=Europe/Paris:20230602T093000
DTEND;TZID=Europe/Paris:20230602T173000
DTSTAMP:20260425T005441
CREATED:20221018T132502Z
LAST-MODIFIED:20221018T132502Z
UID:10000231-1685698200-1685727000@www.faiscop.com
SUMMARY:Formation AIPR Encadrant
DESCRIPTION:
URL:https://www.faiscop.com/event/formation-aipr-encadrant/2023-06-02/
LOCATION:Au centre\, en e-learning ou en entreprise
ATTACH;FMTTYPE=image/jpeg:https://www.faiscop.com/wp-content/uploads/2022/10/AIPR-encadrant.jpg
END:VEVENT
BEGIN:VEVENT
DTSTART;TZID=Europe/Paris:20230612T093000
DTEND;TZID=Europe/Paris:20230612T173000
DTSTAMP:20260425T005441
CREATED:20221018T121523Z
LAST-MODIFIED:20221018T121523Z
UID:10000133-1686562200-1686591000@www.faiscop.com
SUMMARY:Habilitation électrique B0 H0 H0V - Initiale
DESCRIPTION:
URL:https://www.faiscop.com/event/habilitation-electrique-b0-h0-h0v-initiale/2023-06-12/
LOCATION:Au centre\, en e-learning ou en entreprise
ATTACH;FMTTYPE=image/jpeg:https://www.faiscop.com/wp-content/uploads/2022/10/image-electrique-b0-h0-h0v-faiscop.jpg
END:VEVENT
BEGIN:VEVENT
DTSTART;TZID=Europe/Paris:20230612T093000
DTEND;TZID=Europe/Paris:20230612T173000
DTSTAMP:20260425T005441
CREATED:20221018T124652Z
LAST-MODIFIED:20221018T124652Z
UID:10000177-1686562200-1686591000@www.faiscop.com
SUMMARY:Habilitation électrique B0 H0 H0V – Recyclage
DESCRIPTION:
URL:https://www.faiscop.com/event/habilitation-electrique-b0-h0-h0v-recyclage/2023-06-12/
LOCATION:Au centre\, en e-learning ou en entreprise
ATTACH;FMTTYPE=image/jpeg:https://www.faiscop.com/wp-content/uploads/2022/10/image-electrique-b0-h0-h0v-faiscop.jpg
END:VEVENT
BEGIN:VEVENT
DTSTART;TZID=Europe/Paris:20230612T093000
DTEND;TZID=Europe/Paris:20230612T173000
DTSTAMP:20260425T005441
CREATED:20221018T125427Z
LAST-MODIFIED:20221018T125427Z
UID:10000188-1686562200-1686591000@www.faiscop.com
SUMMARY:Habilitation électrique BS BE HE – Recyclage
DESCRIPTION:
URL:https://www.faiscop.com/event/habilitation-electrique-bs-be-he-recyclage/2023-06-12/
LOCATION:Au centre\, en e-learning ou en entreprise
ATTACH;FMTTYPE=image/jpeg:https://www.faiscop.com/wp-content/uploads/2022/10/image-electrique-faiscop-2.jpg
END:VEVENT
BEGIN:VEVENT
DTSTART;TZID=Europe/Paris:20230612T093000
DTEND;TZID=Europe/Paris:20230613T173000
DTSTAMP:20260425T005441
CREATED:20221018T122702Z
LAST-MODIFIED:20221018T122702Z
UID:10000144-1686562200-1686677400@www.faiscop.com
SUMMARY:Habilitation électrique BS BE HE - Initiale
DESCRIPTION:
URL:https://www.faiscop.com/event/habilitation-electrique-bs-be-he-initiale/2023-06-12/
LOCATION:Au centre\, en e-learning ou en entreprise
ATTACH;FMTTYPE=image/jpeg:https://www.faiscop.com/wp-content/uploads/2022/10/image-electrique-faiscop-2.jpg
END:VEVENT
BEGIN:VEVENT
DTSTART;TZID=Europe/Paris:20230612T093000
DTEND;TZID=Europe/Paris:20230614T173000
DTSTAMP:20260425T005441
CREATED:20221018T123405Z
LAST-MODIFIED:20221018T123405Z
UID:10000155-1686562200-1686763800@www.faiscop.com
SUMMARY:Habilitation non électricien B1 B2 BC BR - Initiale
DESCRIPTION:
URL:https://www.faiscop.com/event/habilitation-non-electricien-b1-b2-bc-br-initiale/2023-06-12/
LOCATION:Au centre ou en entreprise
ATTACH;FMTTYPE=image/jpeg:https://www.faiscop.com/wp-content/uploads/2022/10/image-electrique-faiscop-3.jpg
END:VEVENT
BEGIN:VEVENT
DTSTART;TZID=Europe/Paris:20230612T093000
DTEND;TZID=Europe/Paris:20230615T173000
DTSTAMP:20260425T005441
CREATED:20221018T124115Z
LAST-MODIFIED:20221018T124115Z
UID:10000166-1686562200-1686850200@www.faiscop.com
SUMMARY:Habilitation électricien B1 B2 BC BR H1 H2 - Initiale
DESCRIPTION:
URL:https://www.faiscop.com/event/habilitation-electricien-b1-b2-bc-br-h1-h2-initiale/2023-06-12/
LOCATION:Au centre ou en entreprise
ATTACH;FMTTYPE=image/jpeg:https://www.faiscop.com/wp-content/uploads/2022/10/image-electrique-faiscop-4.jpg
END:VEVENT
BEGIN:VEVENT
DTSTART;TZID=Europe/Paris:20230613T093000
DTEND;TZID=Europe/Paris:20230614T123000
DTSTAMP:20260425T005441
CREATED:20221018T130353Z
LAST-MODIFIED:20221018T130353Z
UID:10000199-1686648600-1686745800@www.faiscop.com
SUMMARY:Habilitation non électricien B1 B2 BC BR - Recyclage
DESCRIPTION:
URL:https://www.faiscop.com/event/habilitation-non-electricien-b1-b2-bc-br-recyclage/2023-06-13/
LOCATION:Au centre ou en entreprise
ATTACH;FMTTYPE=image/jpeg:https://www.faiscop.com/wp-content/uploads/2022/10/image-electrique-faiscop-3.jpg
END:VEVENT
BEGIN:VEVENT
DTSTART;TZID=Europe/Paris:20230614T093000
DTEND;TZID=Europe/Paris:20230615T173000
DTSTAMP:20260425T005441
CREATED:20221018T131146Z
LAST-MODIFIED:20221018T131146Z
UID:10000210-1686735000-1686850200@www.faiscop.com
SUMMARY:Habilitation électricien B1 B2 BC BR H1 H2 – Recyclage
DESCRIPTION:
URL:https://www.faiscop.com/event/habilitation-electricien-b1-b2-bc-br-h1-h2-recyclage/2023-06-14/
LOCATION:Au centre ou en entreprise
ATTACH;FMTTYPE=image/jpeg:https://www.faiscop.com/wp-content/uploads/2022/10/image-electrique-faiscop-4.jpg
END:VEVENT
BEGIN:VEVENT
DTSTART;TZID=Europe/Paris:20230621T093000
DTEND;TZID=Europe/Paris:20230621T173000
DTSTAMP:20260425T005441
CREATED:20221018T133857Z
LAST-MODIFIED:20221018T133857Z
UID:10000243-1687339800-1687368600@www.faiscop.com
SUMMARY:Formation AIPR Opérateur
DESCRIPTION:
URL:https://www.faiscop.com/event/formation-aipr-operateur/2023-06-21/
LOCATION:Au centre\, en e-learning ou en entreprise
ATTACH;FMTTYPE=image/jpeg:https://www.faiscop.com/wp-content/uploads/2022/10/AIPR-operateur.jpg
END:VEVENT
BEGIN:VEVENT
DTSTART;TZID=Europe/Paris:20230622T093000
DTEND;TZID=Europe/Paris:20230622T173000
DTSTAMP:20260425T005441
CREATED:20221018T131807Z
LAST-MODIFIED:20221018T131807Z
UID:10000221-1687426200-1687455000@www.faiscop.com
SUMMARY:Formation AIPR Concepteur
DESCRIPTION:
URL:https://www.faiscop.com/event/formation-aipr-concepteur/2023-06-22/
LOCATION:Au centre\, en e-learning ou en entreprise
ATTACH;FMTTYPE=image/jpeg:https://www.faiscop.com/wp-content/uploads/2022/10/AIPR-concepteur.jpg
END:VEVENT
BEGIN:VEVENT
DTSTART;TZID=Europe/Paris:20230623T093000
DTEND;TZID=Europe/Paris:20230623T173000
DTSTAMP:20260425T005441
CREATED:20221018T132502Z
LAST-MODIFIED:20221018T132502Z
UID:10000232-1687512600-1687541400@www.faiscop.com
SUMMARY:Formation AIPR Encadrant
DESCRIPTION:
URL:https://www.faiscop.com/event/formation-aipr-encadrant/2023-06-23/
LOCATION:Au centre\, en e-learning ou en entreprise
ATTACH;FMTTYPE=image/jpeg:https://www.faiscop.com/wp-content/uploads/2022/10/AIPR-encadrant.jpg
END:VEVENT
END:VCALENDAR